Workbook
Name _1_page_limit_if_applicable: #REF!
Name _1_page_maximum__4_600_characters__51_lines: #REF!
Name _2_page_limit: #REF!
Name _2_pages_maximum_for_each_PD_PI: #REF!
Name _3_page_maximum: #REF!
Name A_description_of_plans_to_identify_resources_for_child_care_and_other_types_of_family_care_at_the_conference_site_to_allow_individuals_with_family_care_responsibilities_to_attend._Attendance_for_some_participants_will_be_dependent_on_the_availability_of_s: #REF!
Name After_submission_please_enter_Proposal_ID_and_solicitation_number_in_keyword_section_of_eTransmittal.: #REF!
Name All_other_named_individuals_in_the_proposal_who_weren_t_included_in_the_Senior_Key_Personnel_section_of_the_eTransmittal__requesting_salary_support_or_not_.: #REF!
Name Animals: #REF!
Name Are_all_the_sections_completed?_If_the_submission_instructions_do_not_require_a_section_to_be_provided__insert_text_or_upload_a_document_in_that_section_of_the_proposal_that_states___Not_Applicable.: #REF!
Name Beginning_investigator_Checked__only_applies_to_submission_to_BIO_Sciences_Division: #REF!
Name Check_solicitation: #REF!
Name Cost_share_noted_on_eTransmittal: #REF!
Name Deadline_Date_Input: 'Input Sponsor Due Date'!$D$4
Name Did_you_it_the__Check__botton_to_confirm_that_it_s_complete?: #REF!
Name Draft_App_number_created?: #REF!
Name Draft_Budget_to_OSP?: #REF!
Name Et_al._is_not_allowable: #REF!
Name HomePage: 'Proposal Checklist'!$A$1
Name Humans_Animals: #REF!
Name If_PD_PI_or_co_PIs_are_not_budgeted__remove_names_from_budget_form: #REF!
Name If_PD_PI_or_co_PIs_is_are_not_budgeted__remove_from_budget_form: #REF!
Name International_activities_–_list_country_in_keyword_section: #REF!
Name Is_the_PI_eligible_to_submit_per_MSU_s_policy?: #REF!
Name Is_the_PI_or_MSU_eligible_to_submit_the_proposal?: #REF!
Name Is_this_a_limited_submission?: #REF!
Name Is_this_a_sponsored_Project?: #REF!
Name Linked?: #REF!
Name List_this_proposal_as_pending: #REF!
Name Matches_reviewed_budget_and_transmittal_and_cover_sheet: #REF!
Name Maximum_5_relevant_products__5_other_products__5_synergistic_activities: #REF!
Name MSU_Eligibility___Is_the_PI_eligible_to_submit_proposals?__see__PI_Exception_Letter__request_requirements: 'Proposal Checklist'!$F$12
Name No___or___effort_cost_share_statements_allowed: #REF!
Name No_cost_share_statements: #REF!
Name No_Letters_of_Support: #REF!
Name Only_lead_uploads_data_plan__post_doc_plan__summary_or_description: #REF!
Name OSP_Proposal_Checklist: 'Proposal Checklist'!$A$1
Name PD__Proposal_Number__been_sent_to_OSP_with_the_solicitation: 'Proposal Checklist'!$F$10
Name PI_Eligibility___Is_the_PI_eligible_to_submit_proposals?__see__PI_Exception_Letter__request_requirements: 'Proposal Checklist'!$F$12
Name PIs_and_Co_PIs_eligible_to_submit_and_all_signed_COI_annual_disclosure_training: #REF!
Name Required_subaward_documents_provided_to_OSP?: #REF!
Name Reviewed_the_budget__justification_and_letter_of_commitment_documements_and_certifications: #REF!
Name RFA___Has_the_solicitation_and_or_other_documentation__e.g._RFA__FOA__RFP__webpage_guidelines__Q_A__been_emailed_to_OSP?: 'Proposal Checklist'!$F$9
Name Solicitation_number__check_for_special_instructions: #REF!
Name Solicitation_sent_to_OSP?: #REF!
Name Start__must_be_at_least_6_months_in_future_except_Rapid_or_Eager: #REF!
Name TenDaysBeforeDeadline: 'Proposal Checklist'!$C$37
Name Title_matches_and_is_in_compliance_with_solicitation: #REF!
Name Usually_15_page_maximum: #REF!

Sheet Input Sponsor Due Date
B1: Instructions
B2: Please begin by entering the deadline date for your proposal in the blue box below (cell D4). This will populate the appropriate due dates on the Proposal Checklist tab. Note: Your College/Department may have different internal deadline dates for proposal submission that you will need to adhere to. The dates included on the checklist are deadlines for OSP only.
A4: Click here to Move to the Proposal Checklist Tab | B4: Input the sponsor's effective deadline date here-> | D4: 43809 | E4: <- The effective deadline date should't fall on a weekend or holiday; confirm with OSP if not sure*. | G4: Total # of Business and Non-Business Days Until Deadline -> | H4: =+D4-D8 -> -848
B5: The Proposal Checklist is on the second tab of this Excel document. Many of the steps and checklist items have hyperlinks that will take you to additional information that pertains to that step. If you have questions regarding any of the steps or the dates that are populating based on the deadline date entered above, please contact the OSP Proposal Team assigned to your College.
B6: *The effective deadline should exclude weekends and holidays when appropriate.
B8: Today's Date -> | D8: =TODAY() -> 44657
B10: OSP 10 full days before deadline | D10: =+TenDaysBeforeDeadline -> 43791 | E10: Solicitation Ready for OSP Review - 10 days
B11: OSP 6 full days before deadline | D11: =+'Proposal Checklist'!C44 -> 43801 | E11: Final Departmental Budget and Proposal Development Document Routed for Approvals - 6 days
B12: OSP 3 full days before deadline | D12: =+'Proposal Checklist'!C46 -> 43804 | E12: Final Proposal for Submission to OSP- 3 days
B13: OSP 1 day before the deadline | D13: =+'Proposal Checklist'!C50 -> 43808 | E13: For on-time electronic applications submitted by OSP, OSP has a commitment to submit the proposal at least 1 (one) business day before the deadline date.
B14: Day of the deadline | D14: =+'Proposal Checklist'!C54 -> 43809 | E14: For At-Risk Proposals

Sheet Proposal Checklist
A1: OSP Proposal Checklist
A2: Click here input the sponsor's deadline date on the Input tab
A3: Document Due Dates Listed Below | D3: x | E3: Proposal Preparation Guidance
A4: <--- | D4: Check Box
E5: Identify Funding Sources
F6: Project type - Is this a sponsored project?
E7: Confirm Eligibility and Study Application Requirements
F8: RFA - Has the RFA and related information been reviewed?
F9: RFA - Has the solicitation and/or other documentation (e.g. RFA, FOA, RFP, Q&A, webpage guidelines) been emailed to OSP?
F10: RFA - Proposal Development (PD) Document - Has the PD "Proposal Number" been sent to OSP with the solicitation?
F11: Sponsor Eligibility - Does the university, unit or PI qualify to apply based on the solicitation requirements?
F12: PI Eligibility - Is the PI eligible to submit proposals? (see "PI Exception Letter" request requirements)
F13: Limited Submission - Is the proposal a limited submission requiring prior MSU approval?
F14: Export Control - Does this project require Export Control review?
E15: Budget and Budget Justification
F16: Budget format - Is the correct budget format used?
F17: Budget Justification - Are items normally considered F&A properly justified?
F18: Fringe rate - Are the correct fringe benefit rates budgeted?
F19: F&A rate - Has the applicable rate been determined and used in the budget?
F20: F&A rate - Is the correct F&A basis budgeted (e.g. MTDC, TDC, Total Project, TFFA)?
F21: Subrecipients vs Consultants - Has the PI confirmed the appropriate budget category?
F22: Subrecipient - Have they provided the signed MSU Letter of Commitment form?
F23: Subrecipient - Have they provided the subaward Statement of Work?
F24: Subrecipient - Have they provided the budget and budget narrative?
F25: Subrecipient - If applicable, have they provided completed Financial Conflict of Interest forms?
F26: Cost Share - Has the type of cost share been confirmed (Mandatory, Voluntary Committed or Voluntary Uncommitted)?
F27: Cost Share - Has the source of cost share been confirmed?
F28: Cost Share - Has the appropriate approvals been obtained?
E29: Prepare Necessary Forms
F30: Forms - If sponsor's forms are required, are the most current forms used?
F31: Format - Does the application follow sponsor formatting requirements (font, type, spacing, etc.)?
F32: Format - Does the application adhere to sponsor page limits?
F33: Delivery - Has the proposal submission process been determined (e.g. emailed by PI, submitted electronically to sponsor by OSP, __ # of copies sent by PI, etc.)?
F34: Checklist - If the sponsor provided a proposal outline and/or preparation checklist, was it followed?
E35: Regulatory Requirements
F36: For PHS and NSF proposals, have annual disclosures been completed by all key personnel (including subs/consultants/students, if applicable)?
A37: OSP 10 full days before deadline | C37: =WORKDAY(+'Input Sponsor Due Date'!D4,-10,'Excluded Holidays'!$A$5:$A$20) -> 43791 | E37: Solicitation Ready for OSP Review - 10 days
F38: Proposal Development (PD) Document - Has the PD "Proposal Number" been sent to OSP? (if not already provided per Step 2 or 5)
F39: Proposal Development (PD) Document - Is the deadline date/time fields complete in the PD (if applicable)?
F40: RFA - Has the solicitation and/or other documentation (e.g. webpage guidelines) been emailed to OSP? (if not already provided per Step 2)
...

Sheet Excluded Holidays
A1: http://www.calendar-365.com/holidays/2019.html | D1: Year
A2: http://www.calendar-365.com/holidays/2020.html | D2: 2019
G3: http://www.hr.msu.edu/timoffleave/HolidaySched.htm
A4: Date | C4: Holiday | G4: MSU Holiday Schedule
A5: 43797 | B5: Thursday | C5: Thanksgiving | D5: =+$D$2 -> 2019 | E5: 1
A6: 43798 | B6: Friday | C6: Thanksgiving | D6: =+$D$2 -> 2019 | E6: 2
A7: 43823 | B7: Tuesday | C7: Christmas Eve | D7: =+$D$2 -> 2019 | E7: 3
A8: 43824 | B8: Wednesday | C8: Christmas Day | D8: =+$D$2 -> 2019 | E8: 4
A9: 43830 | B9: Monday | C9: New Year's Eve | D9: =+$D$2 -> 2019 | E9: 5
A10: 43831 | B10: Tuesday | C10: New Year's Day | D10: =+$D$2+1 -> 2020 | E10: 6
A11: 43850 | B11: Monday | C11: Martin Luther King Day | D11: =+$D$2+1 -> 2020 | E11: 7
A12: 43976 | B12: Monday | C12: Memorial Day | D12: =+$D$2+1 -> 2020 | E12: 8
A13: 44016 | B13: Saturday | C13: Independence Day | D13: =+$D$2+1 -> 2020 | E13: 9
A14: 44081 | B14: Monday | C14: Labor Day | D14: =+$D$2+1 -> 2020 | E14: 10
A15: 44161 | B15: Thursday | C15: Thanksgiving | D15: =+$D$2+1 -> 2020 | E15: 11
A16: 44162 | B16: Friday | C16: Thanksgiving Friday | D16: =+$D$2+1 -> 2020 | E16: 12
A17: 44189 | B17: Thursday | C17: Christmas Eve | D17: =+$D$2+1 -> 2020 | E17: 13
A18: 44190 | B18: Friday | C18: Christmas Day | D18: =+$D$2+1 -> 2020 | E18: 14
A19: 44196 | B19: Thursday | C19: New Year's Eve | D19: =+$D$2+1 -> 2020 | E19: 15
A20: 44197 | B20: Friday | C20: New Year's Day | D20: =+$D$2+2 -> 2021 | E20: 16
